BEGIN:VCALENDAR
VERSION:2.0
PRODID:-//Buscando Universidad - ECPv6.15.17//NONSGML v1.0//EN
CALSCALE:GREGORIAN
METHOD:PUBLISH
X-WR-CALNAME:Buscando Universidad
X-ORIGINAL-URL:https://buscandouniversidad.com
X-WR-CALDESC:Eventos para Buscando Universidad
REFRESH-INTERVAL;VALUE=DURATION:PT1H
X-Robots-Tag:noindex
X-PUBLISHED-TTL:PT1H
BEGIN:VTIMEZONE
TZID:America/Mexico_City
BEGIN:STANDARD
TZOFFSETFROM:-0600
TZOFFSETTO:-0600
TZNAME:CST
DTSTART:20250101T000000
END:STANDARD
END:VTIMEZONE
BEGIN:VEVENT
DTSTART;TZID=America/Mexico_City:20260416T113000
DTEND;TZID=America/Mexico_City:20260416T150000
DTSTAMP:20260420T081857
CREATED:20251112T001350Z
LAST-MODIFIED:20260320T215147Z
UID:15784-1776339000-1776351600@buscandouniversidad.com
SUMMARY:Evento Vocacional CECyTE 07  (Apizaco) Tlaxcala
DESCRIPTION:Jueves 16 de Abril 2026 11:30 AM – 3:00 PM\n\n\nEvento vocacional Cecyte 07\n\nCalle Reforma S/N\, Primera Secc\, 90491 San Andrés Ahuashuatepec\, Tlaxcala.\nParticipan matutino 120 jóvenes\, vespertino 80 alumnos de ultimo año\nParticiparan como “orientación vocacional” 4° semestre 200 alumnos\nHorario de instalación Universidades 10:30 a.m. – 11:20 a.m.\nEl evento se desarrollara dentro del auditorio techado y cerrado dentro del Plantel.
URL:https://buscandouniversidad.com/event/evento-vocacional-cecyte-07-apizaco-tlaxcala/
LOCATION:Evento Vocacional CECyTE 07 (Apizaco) Tlaxcala\, Calle Reforma S/N\, Primera Secc\, 90490 San Andrés Ahuashuatepec\, Tlax.\, México\, Apizaco Tlaxcala\, San Andrés Ahuashuatepec\, 90490\, Mexico
CATEGORIES:Eventos Vocacionales
ORGANIZER;CN="Logistica a cargo de buscando univiersidad":MAILTO:mesadecontrol@buscandouniversidad.com
END:VEVENT
END:VCALENDAR